BEGIN:VCALENDAR
VERSION:2.0
PRODID:-//Dorf-Satuelle.de - ECPv6.15.11//NONSGML v1.0//EN
CALSCALE:GREGORIAN
METHOD:PUBLISH
X-ORIGINAL-URL:https://dorf-satuelle.de
X-WR-CALDESC:Veranstaltungen für Dorf-Satuelle.de
REFRESH-INTERVAL;VALUE=DURATION:PT1H
X-Robots-Tag:noindex
X-PUBLISHED-TTL:PT1H
BEGIN:VTIMEZONE
TZID:Europe/Berlin
BEGIN:DAYLIGHT
TZOFFSETFROM:+0100
TZOFFSETTO:+0200
TZNAME:CEST
DTSTART:20250330T010000
END:DAYLIGHT
BEGIN:STANDARD
TZOFFSETFROM:+0200
TZOFFSETTO:+0100
TZNAME:CET
DTSTART:20251026T010000
END:STANDARD
BEGIN:DAYLIGHT
TZOFFSETFROM:+0100
TZOFFSETTO:+0200
TZNAME:CEST
DTSTART:20260329T010000
END:DAYLIGHT
BEGIN:STANDARD
TZOFFSETFROM:+0200
TZOFFSETTO:+0100
TZNAME:CET
DTSTART:20261025T010000
END:STANDARD
BEGIN:DAYLIGHT
TZOFFSETFROM:+0100
TZOFFSETTO:+0200
TZNAME:CEST
DTSTART:20270328T010000
END:DAYLIGHT
BEGIN:STANDARD
TZOFFSETFROM:+0200
TZOFFSETTO:+0100
TZNAME:CET
DTSTART:20271031T010000
END:STANDARD
END:VTIMEZONE
BEGIN:VEVENT
DTSTART;VALUE=DATE:20260822
DTEND;VALUE=DATE:20260823
DTSTAMP:20260419T140529
CREATED:20250925T185605Z
LAST-MODIFIED:20250925T185718Z
UID:221-1787356800-1787443199@dorf-satuelle.de
SUMMARY:800 Jahre Satuelle - Großes Dorffest mit Umzug\, Markt und Tanz
DESCRIPTION:
URL:https://dorf-satuelle.de/veranstaltungen/800-jahre-satuelle-grosses-dorffest-mit-umzug-markt-und-tanz/
LOCATION:Festplatz Satuelle\, Am Anger 3\, Satuelle\, Sachsen-Anhalt\, 39345\, Germany
END:VEVENT
END:VCALENDAR